BEGIN:VCALENDAR
VERSION:2.0
PRODID:-//SMK Ki Hajar Dewantara Songgom - ECPv6.15.20//NONSGML v1.0//EN
CALSCALE:GREGORIAN
METHOD:PUBLISH
X-ORIGINAL-URL:https://smkkhdsonggom.sch.id
X-WR-CALDESC:Events for SMK Ki Hajar Dewantara Songgom
REFRESH-INTERVAL;VALUE=DURATION:PT1H
X-Robots-Tag:noindex
X-PUBLISHED-TTL:PT1H
BEGIN:VTIMEZONE
TZID:UTC
BEGIN:STANDARD
TZOFFSETFROM:+0000
TZOFFSETTO:+0000
TZNAME:UTC
DTSTART:20230101T000000
END:STANDARD
END:VTIMEZONE
BEGIN:VEVENT
DTSTART;VALUE=DATE:20241221
DTEND;VALUE=DATE:20241223
DTSTAMP:20260421T195331
CREATED:20250107T200203Z
LAST-MODIFIED:20250107T200203Z
UID:251-1734739200-1734911999@smkkhdsonggom.sch.id
SUMMARY:Perkemahan Pelantikan Penegak Laksana Dan Dewan Ambalan Tahun 2024
DESCRIPTION:Comingsoon.. \n\n\nPerkemahan Pelantikan Penegak Laksana Dan Dewan Ambalan Tahun 2024 \n\n\nKegiatan Perkemahan Ini Akan Berlangsung Pada Hari Sabtu-Minggu\, 21-22 Desember 2024. \n\n\nPersiapan Diri Bagi Yang Ikut Perkemahan Ini Yahhh…
URL:https://smkkhdsonggom.sch.id/event/perkemahan-pelantikan-penegak-laksana-dan-dewan-ambalan-tahun-2024-2/
LOCATION:Aula SMK Ki Hajar Dewantara Songgom
END:VEVENT
BEGIN:VEVENT
DTSTART;VALUE=DATE:20241221
DTEND;VALUE=DATE:20241223
DTSTAMP:20260421T195331
CREATED:20250107T173515Z
LAST-MODIFIED:20250107T174429Z
UID:224-1734739200-1734911999@smkkhdsonggom.sch.id
SUMMARY:Perkemahan Pelantikan Penegak Laksana Dan Dewan Ambalan Tahun 2024
DESCRIPTION:Comingsoon.. \n\n\nPerkemahan Pelantikan Penegak Laksana Dan Dewan Ambalan Tahun 2024 \n\n\nKegiatan Perkemahan Ini Akan Berlangsung Pada Hari Sabtu-Minggu\, 21-22 Desember 2024. \n\n\nPersiapan Diri Bagi Yang Ikut Perkemahan Ini Yahhh…
URL:https://smkkhdsonggom.sch.id/event/perkemahan-pelantikan-penegak-laksana-dan-dewan-ambalan-tahun-2024/
LOCATION:Aula SMK Ki Hajar Dewantara Songgom
END:VEVENT
BEGIN:VEVENT
DTSTART;TZID=UTC:20241210T080000
DTEND;TZID=UTC:20241217T170000
DTSTAMP:20260421T195331
CREATED:20250107T173324Z
LAST-MODIFIED:20250107T200246Z
UID:221-1733817600-1734454800@smkkhdsonggom.sch.id
SUMMARY:Classmetting Tahun 2024-2025
DESCRIPTION:Classmetting Tahun 2024-2025\nJangan Lupa Ikuti Perlombaannya
URL:https://smkkhdsonggom.sch.id/event/classmetting-tahun-2024-2025/
LOCATION:Aula SMK Ki Hajar Dewantara Songgom
END:VEVENT
BEGIN:VEVENT
DTSTART;TZID=UTC:20241024T133000
DTEND;TZID=UTC:20241024T170000
DTSTAMP:20260421T195331
CREATED:20250107T173050Z
LAST-MODIFIED:20250107T173050Z
UID:217-1729776600-1729789200@smkkhdsonggom.sch.id
SUMMARY:Kegiatan Pemilihan Ketua Osis Dan Wakil Ketua Osis Masa Jabatan 2024-2025
DESCRIPTION:Dokumentasi Kegiatan Pemilihan Ketua Osis Dan Wakil Ketua Osis Masa Jabatan 2024-2025 Berjalan Lancar\n\n\nJum’at\, 18 Oktober 2024
URL:https://smkkhdsonggom.sch.id/event/kegiatan-pemilihan-ketua-osis-dan-wakil-ketua-osis-masa-jabatan-2024-2025/
LOCATION:Aula SMK Ki Hajar Dewantara Songgom
END:VEVENT
END:VCALENDAR